BEGIN:VCALENDAR
VERSION:2.0
PRODID:-//www.rcamf.nl - ECPv6.15.20//NONSGML v1.0//EN
CALSCALE:GREGORIAN
METHOD:PUBLISH
X-WR-CALNAME:www.rcamf.nl
X-ORIGINAL-URL:https://www.rcamf.nl
X-WR-CALDESC:Evenementen voor www.rcamf.nl
REFRESH-INTERVAL;VALUE=DURATION:PT1H
X-Robots-Tag:noindex
X-PUBLISHED-TTL:PT1H
BEGIN:VTIMEZONE
TZID:Europe/Amsterdam
BEGIN:DAYLIGHT
TZOFFSETFROM:+0100
TZOFFSETTO:+0200
TZNAME:CEST
DTSTART:20250330T010000
END:DAYLIGHT
BEGIN:STANDARD
TZOFFSETFROM:+0200
TZOFFSETTO:+0100
TZNAME:CET
DTSTART:20251026T010000
END:STANDARD
BEGIN:DAYLIGHT
TZOFFSETFROM:+0100
TZOFFSETTO:+0200
TZNAME:CEST
DTSTART:20260329T010000
END:DAYLIGHT
BEGIN:STANDARD
TZOFFSETFROM:+0200
TZOFFSETTO:+0100
TZNAME:CET
DTSTART:20261025T010000
END:STANDARD
BEGIN:DAYLIGHT
TZOFFSETFROM:+0100
TZOFFSETTO:+0200
TZNAME:CEST
DTSTART:20270328T010000
END:DAYLIGHT
BEGIN:STANDARD
TZOFFSETFROM:+0200
TZOFFSETTO:+0100
TZNAME:CET
DTSTART:20271031T010000
END:STANDARD
END:VTIMEZONE
BEGIN:VEVENT
DTSTART;TZID=Europe/Amsterdam:20260420T190000
DTEND;TZID=Europe/Amsterdam:20260420T220000
DTSTAMP:20260420T015951
CREATED:20251230T083615Z
LAST-MODIFIED:20251230T084532Z
UID:7365-1776711600-1776722400@www.rcamf.nl
SUMMARY:RCAMF bijeenkomst 20 april 2026
DESCRIPTION:De toegang is aan de linkerzijde bij het hek. De meeting begint om 19:30 en duurt tot ongeveer 22:00. \nLet op:\nVoor het hek van de ingang van Vanadiumweg 20A is rechts een groot terrein waar je kunt parkeren\, kan ook aan de weg. Voor versnaperingen wordt gezorgd.
URL:https://www.rcamf.nl/event/rcamf-bijeenkomst-20-april-2026/
LOCATION:Groeneveld\, Vanadiumweg 20A\, Amersfoort\, Netherlands
CATEGORIES:RC AMF avond
ATTACH;FMTTYPE=image/jpeg:https://www.rcamf.nl/wp-content/uploads/2024/01/15-1-2024-2-scaled.jpg
ORGANIZER;CN="Jan Spierenburg":MAILTO:pd0auq@rcamf.nl
END:VEVENT
END:VCALENDAR