BEGIN:VCALENDAR
VERSION:2.0
PRODID:-//www.rcamf.nl - ECPv6.15.20//NONSGML v1.0//EN
CALSCALE:GREGORIAN
METHOD:PUBLISH
X-ORIGINAL-URL:https://www.rcamf.nl
X-WR-CALDESC:Evenementen voor www.rcamf.nl
REFRESH-INTERVAL;VALUE=DURATION:PT1H
X-Robots-Tag:noindex
X-PUBLISHED-TTL:PT1H
BEGIN:VTIMEZONE
TZID:Europe/Amsterdam
BEGIN:DAYLIGHT
TZOFFSETFROM:+0100
TZOFFSETTO:+0200
TZNAME:CEST
DTSTART:20250330T010000
END:DAYLIGHT
BEGIN:STANDARD
TZOFFSETFROM:+0200
TZOFFSETTO:+0100
TZNAME:CET
DTSTART:20251026T010000
END:STANDARD
BEGIN:DAYLIGHT
TZOFFSETFROM:+0100
TZOFFSETTO:+0200
TZNAME:CEST
DTSTART:20260329T010000
END:DAYLIGHT
BEGIN:STANDARD
TZOFFSETFROM:+0200
TZOFFSETTO:+0100
TZNAME:CET
DTSTART:20261025T010000
END:STANDARD
BEGIN:DAYLIGHT
TZOFFSETFROM:+0100
TZOFFSETTO:+0200
TZNAME:CEST
DTSTART:20270328T010000
END:DAYLIGHT
BEGIN:STANDARD
TZOFFSETFROM:+0200
TZOFFSETTO:+0100
TZNAME:CET
DTSTART:20271031T010000
END:STANDARD
END:VTIMEZONE
BEGIN:VEVENT
DTSTART;TZID=Europe/Amsterdam:20260323T190000
DTEND;TZID=Europe/Amsterdam:20260323T220000
DTSTAMP:20260421T235003
CREATED:20251229T193004Z
LAST-MODIFIED:20251230T084034Z
UID:7261-1774292400-1774303200@www.rcamf.nl
SUMMARY:RCAMF bijeenkomst 23 maart 2026
DESCRIPTION:De toegang is aan de linkerzijde bij het hek. De meeting begint om 19:30 en duurt tot ongeveer 22:00. \nLet op:\nVoor het hek van de ingang van Vanadiumweg 20A is rechts een groot terrein waar je kunt parkeren\, kan ook aan de weg. Voor versnaperingen wordt gezorgd.
URL:https://www.rcamf.nl/event/rcamf-bijeenkomst-23-maart-2026/
LOCATION:Groeneveld\, Vanadiumweg 20A\, Amersfoort\, Netherlands
CATEGORIES:RC AMF avond
ATTACH;FMTTYPE=image/jpeg:https://www.rcamf.nl/wp-content/uploads/2024/01/15-1-2024-2-scaled.jpg
ORGANIZER;CN="Jan Spierenburg":MAILTO:pd0auq@rcamf.nl
END:VEVENT
BEGIN:VEVENT
DTSTART;TZID=Europe/Amsterdam:20260330T190000
DTEND;TZID=Europe/Amsterdam:20260330T220000
DTSTAMP:20260421T235003
CREATED:20251229T193103Z
LAST-MODIFIED:20251230T084040Z
UID:7263-1774897200-1774908000@www.rcamf.nl
SUMMARY:RCAMF bijeenkomst 30 maart 2026
DESCRIPTION:De toegang is aan de linkerzijde bij het hek. De meeting begint om 19:30 en duurt tot ongeveer 22:00. \nLet op:\nVoor het hek van de ingang van Vanadiumweg 20A is rechts een groot terrein waar je kunt parkeren\, kan ook aan de weg. Voor versnaperingen wordt gezorgd.
URL:https://www.rcamf.nl/event/rcamf-bijeenkomst-30-maart-2026/
LOCATION:Groeneveld\, Vanadiumweg 20A\, Amersfoort\, Netherlands
CATEGORIES:RC AMF avond
ATTACH;FMTTYPE=image/jpeg:https://www.rcamf.nl/wp-content/uploads/2024/01/15-1-2024-2-scaled.jpg
ORGANIZER;CN="Jan Spierenburg":MAILTO:pd0auq@rcamf.nl
END:VEVENT
BEGIN:VEVENT
DTSTART;TZID=Europe/Amsterdam:20260406T190000
DTEND;TZID=Europe/Amsterdam:20260406T220000
DTSTAMP:20260421T235003
CREATED:20251230T083320Z
LAST-MODIFIED:20251230T084046Z
UID:7361-1775502000-1775512800@www.rcamf.nl
SUMMARY:RCAMF bijeenkomst 6 april 2026
DESCRIPTION:De toegang is aan de linkerzijde bij het hek. De meeting begint om 19:30 en duurt tot ongeveer 22:00. \nLet op:\nVoor het hek van de ingang van Vanadiumweg 20A is rechts een groot terrein waar je kunt parkeren\, kan ook aan de weg. Voor versnaperingen wordt gezorgd.
URL:https://www.rcamf.nl/event/rcamf-bijeenkomst-6-april-2026/
LOCATION:Groeneveld\, Vanadiumweg 20A\, Amersfoort\, Netherlands
CATEGORIES:RC AMF avond
ATTACH;FMTTYPE=image/jpeg:https://www.rcamf.nl/wp-content/uploads/2024/01/15-1-2024-2-scaled.jpg
ORGANIZER;CN="Jan Spierenburg":MAILTO:pd0auq@rcamf.nl
END:VEVENT
BEGIN:VEVENT
DTSTART;TZID=Europe/Amsterdam:20260411T090000
DTEND;TZID=Europe/Amsterdam:20260411T170000
DTSTAMP:20260421T235003
CREATED:20260113T193453Z
LAST-MODIFIED:20260406T192020Z
UID:7438-1775898000-1775926800@www.rcamf.nl
SUMMARY:Radiomarkt Tytsjerk
DESCRIPTION:Wanneer u vanaf de kruising Zwartewegsend het dorp Tytsjerk binnenrijdt\, krijgt u na 400 meter het dorphuis/Multi functionele centrum ” Yn e Mande” aan uw linkerhand. Er is ruime parkeergelegenheid en het gebouw is goed toegankelijk voor rolstoelgebruikers.            \n GPS: 53°12’53.5″N 5°54’34.6″E \nAdres:  \nNoarderein 1\,  \n9255 KC Tytsjerk\,  \ntafels reserveren en info  : pa2ip@veron.nl
URL:https://www.rcamf.nl/event/radiomarkt-tytsjerk/
LOCATION:Tytsjerk\, Noarder
CATEGORIES:Radiomarkt
ATTACH;FMTTYPE=image/jpeg:https://www.rcamf.nl/wp-content/uploads/2024/12/RadiovlooienmarktTytsjerk.jpg
END:VEVENT
BEGIN:VEVENT
DTSTART;TZID=Europe/Amsterdam:20260413T190000
DTEND;TZID=Europe/Amsterdam:20260413T220000
DTSTAMP:20260421T235003
CREATED:20251230T083526Z
LAST-MODIFIED:20251230T084556Z
UID:7363-1776106800-1776117600@www.rcamf.nl
SUMMARY:RCAMF bijeenkomst 13 april 2026
DESCRIPTION:De toegang is aan de linkerzijde bij het hek. De meeting begint om 19:30 en duurt tot ongeveer 22:00. \nLet op:\nVoor het hek van de ingang van Vanadiumweg 20A is rechts een groot terrein waar je kunt parkeren\, kan ook aan de weg. Voor versnaperingen wordt gezorgd.
URL:https://www.rcamf.nl/event/rcamf-bijeenkomst-13-april-2026/
LOCATION:Groeneveld\, Vanadiumweg 20A\, Amersfoort\, Netherlands
CATEGORIES:RC AMF avond
ATTACH;FMTTYPE=image/jpeg:https://www.rcamf.nl/wp-content/uploads/2024/01/15-1-2024-2-scaled.jpg
ORGANIZER;CN="Jan Spierenburg":MAILTO:pd0auq@rcamf.nl
END:VEVENT
BEGIN:VEVENT
DTSTART;TZID=Europe/Amsterdam:20260420T190000
DTEND;TZID=Europe/Amsterdam:20260420T220000
DTSTAMP:20260421T235003
CREATED:20251230T083615Z
LAST-MODIFIED:20251230T084532Z
UID:7365-1776711600-1776722400@www.rcamf.nl
SUMMARY:RCAMF bijeenkomst 20 april 2026
DESCRIPTION:De toegang is aan de linkerzijde bij het hek. De meeting begint om 19:30 en duurt tot ongeveer 22:00. \nLet op:\nVoor het hek van de ingang van Vanadiumweg 20A is rechts een groot terrein waar je kunt parkeren\, kan ook aan de weg. Voor versnaperingen wordt gezorgd.
URL:https://www.rcamf.nl/event/rcamf-bijeenkomst-20-april-2026/
LOCATION:Groeneveld\, Vanadiumweg 20A\, Amersfoort\, Netherlands
CATEGORIES:RC AMF avond
ATTACH;FMTTYPE=image/jpeg:https://www.rcamf.nl/wp-content/uploads/2024/01/15-1-2024-2-scaled.jpg
ORGANIZER;CN="Jan Spierenburg":MAILTO:pd0auq@rcamf.nl
END:VEVENT
BEGIN:VEVENT
DTSTART;TZID=Europe/Amsterdam:20260427T190000
DTEND;TZID=Europe/Amsterdam:20260427T220000
DTSTAMP:20260421T235003
CREATED:20251230T083843Z
LAST-MODIFIED:20251230T084502Z
UID:7367-1777316400-1777327200@www.rcamf.nl
SUMMARY:RCAMF bijeenkomst 27 april 2026
DESCRIPTION:De toegang is aan de linkerzijde bij het hek. De meeting begint om 19:30 en duurt tot ongeveer 22:00. \nLet op:\nVoor het hek van de ingang van Vanadiumweg 20A is rechts een groot terrein waar je kunt parkeren\, kan ook aan de weg. Voor versnaperingen wordt gezorgd.
URL:https://www.rcamf.nl/event/rcamf-bijeenkomst-27-april-2026/
LOCATION:Groeneveld\, Vanadiumweg 20A\, Amersfoort\, Netherlands
CATEGORIES:RC AMF avond
ATTACH;FMTTYPE=image/jpeg:https://www.rcamf.nl/wp-content/uploads/2024/01/15-1-2024-2-scaled.jpg
ORGANIZER;CN="Jan Spierenburg":MAILTO:pd0auq@rcamf.nl
END:VEVENT
BEGIN:VEVENT
DTSTART;TZID=Europe/Amsterdam:20260511T220000
DTEND;TZID=Europe/Amsterdam:20260511T220000
DTSTAMP:20260421T235003
CREATED:20251230T084257Z
LAST-MODIFIED:20251230T085442Z
UID:7371-1778536800-1778536800@www.rcamf.nl
SUMMARY:RCAMF bijeenkomst 11 mei 2026
DESCRIPTION:De toegang is aan de linkerzijde bij het hek. De meeting begint om 19:30 en duurt tot ongeveer 22:00. \nLet op:\nVoor het hek van de ingang van Vanadiumweg 20A is rechts een groot terrein waar je kunt parkeren\, kan ook aan de weg. Voor versnaperingen wordt gezorgd.
URL:https://www.rcamf.nl/event/rcamf-bijeenkomst-11-mei-2026/
LOCATION:Groeneveld\, Vanadiumweg 20A\, Amersfoort\, Netherlands
CATEGORIES:RC AMF avond
ATTACH;FMTTYPE=image/jpeg:https://www.rcamf.nl/wp-content/uploads/2024/01/15-1-2024-2-scaled.jpg
ORGANIZER;CN="Jan Spierenburg":MAILTO:pd0auq@rcamf.nl
END:VEVENT
BEGIN:VEVENT
DTSTART;TZID=Europe/Amsterdam:20260518T190000
DTEND;TZID=Europe/Amsterdam:20260518T220000
DTSTAMP:20260421T235003
CREATED:20251230T084753Z
LAST-MODIFIED:20251230T085437Z
UID:7373-1779130800-1779141600@www.rcamf.nl
SUMMARY:RCAMF bijeenkomst 18 mei 2026
DESCRIPTION:De toegang is aan de linkerzijde bij het hek. De meeting begint om 19:30 en duurt tot ongeveer 22:00. \nLet op:\nVoor het hek van de ingang van Vanadiumweg 20A is rechts een groot terrein waar je kunt parkeren\, kan ook aan de weg. Voor versnaperingen wordt gezorgd.
URL:https://www.rcamf.nl/event/rcamf-bijeenkomst-18-mei-2026/
LOCATION:Groeneveld\, Vanadiumweg 20A\, Amersfoort\, Netherlands
CATEGORIES:RC AMF avond
ATTACH;FMTTYPE=image/jpeg:https://www.rcamf.nl/wp-content/uploads/2024/01/15-1-2024-2-scaled.jpg
ORGANIZER;CN="Jan Spierenburg":MAILTO:pd0auq@rcamf.nl
END:VEVENT
BEGIN:VEVENT
DTSTART;TZID=Europe/Amsterdam:20260525T190000
DTEND;TZID=Europe/Amsterdam:20260525T220000
DTSTAMP:20260421T235003
CREATED:20251230T084902Z
LAST-MODIFIED:20251230T085430Z
UID:7375-1779735600-1779746400@www.rcamf.nl
SUMMARY:RCAMF bijeenkomst 25 mei 2026
DESCRIPTION:De toegang is aan de linkerzijde bij het hek. De meeting begint om 19:30 en duurt tot ongeveer 22:00. \nLet op:\nVoor het hek van de ingang van Vanadiumweg 20A is rechts een groot terrein waar je kunt parkeren\, kan ook aan de weg. Voor versnaperingen wordt gezorgd.
URL:https://www.rcamf.nl/event/rcamf-bijeenkomst-25-mei-2026/
LOCATION:Groeneveld\, Vanadiumweg 20A\, Amersfoort\, Netherlands
CATEGORIES:RC AMF avond
ATTACH;FMTTYPE=image/jpeg:https://www.rcamf.nl/wp-content/uploads/2024/01/15-1-2024-2-scaled.jpg
ORGANIZER;CN="Jan Spierenburg":MAILTO:pd0auq@rcamf.nl
END:VEVENT
BEGIN:VEVENT
DTSTART;TZID=Europe/Amsterdam:20260530T080000
DTEND;TZID=Europe/Amsterdam:20260530T170000
DTSTAMP:20260421T235003
CREATED:20260113T193911Z
LAST-MODIFIED:20260113T193911Z
UID:7440-1780128000-1780160400@www.rcamf.nl
SUMMARY:Radiomarkt Beesterswaag
DESCRIPTION:Jaarlijks organiseert de afdeling Friese Wouden A63 een grote radio- en elektronicamarkt onder de naam “Friese Radio Markt” Deze markt vindt plaats in en rondom dorpshuis “De Buorskip” in het prachtige bosrijke Beetsterzwaag (Fr.)  Op de markt kunt u terecht voor juist dat onderdeel wat u al lang zocht\, en soms kun je iets aantreffen wat je ook heel goed kunt gebruiken bij je hobby of in je hobbykamer. Ruim 100 standhouders\, zowel particulieren als handelaren\, prijzen binnen en buiten hun goederen aan. Elk jaar verwachten we weer zo’n 1500 bezoekers. Parkeren kan bijna altijd op korte loopafstand. Er is een speciaal parkeerterrein voor mindervaliden. \nDe gezelligheid en de gemoedelijke sfeer op de FRM wordt alom geroemd. En niet te vergeten het onderlinge contact en die zendamateur ontmoeten waar je regelmatig een verbinding mee hebt. Dit alles onder het genot van een kop koffie\, iets fris en misschien een hapje uit de keuken van dorpshuis “De Buorskip”
URL:https://www.rcamf.nl/event/radiomarkt-beesterswaag/
LOCATION:Beesterzwaag\, Vlaslaan 26\, Beesterzwaag\, 9244CH
ATTACH;FMTTYPE=image/jpeg:https://www.rcamf.nl/wp-content/uploads/2025/01/OIP.jpeg
END:VEVENT
BEGIN:VEVENT
DTSTART;TZID=Europe/Amsterdam:20260601T190000
DTEND;TZID=Europe/Amsterdam:20260601T220000
DTSTAMP:20260421T235003
CREATED:20251230T084954Z
LAST-MODIFIED:20251230T085423Z
UID:7377-1780340400-1780351200@www.rcamf.nl
SUMMARY:RCAMF bijeenkomst 1 juni 2026
DESCRIPTION:De toegang is aan de linkerzijde bij het hek. De meeting begint om 19:30 en duurt tot ongeveer 22:00. \nLet op:\nVoor het hek van de ingang van Vanadiumweg 20A is rechts een groot terrein waar je kunt parkeren\, kan ook aan de weg. Voor versnaperingen wordt gezorgd.
URL:https://www.rcamf.nl/event/rcamf-bijeenkomst-1-juni-2026/
LOCATION:Groeneveld\, Vanadiumweg 20A\, Amersfoort\, Netherlands
CATEGORIES:RC AMF avond
ATTACH;FMTTYPE=image/jpeg:https://www.rcamf.nl/wp-content/uploads/2024/01/15-1-2024-2-scaled.jpg
ORGANIZER;CN="Jan Spierenburg":MAILTO:pd0auq@rcamf.nl
END:VEVENT
BEGIN:VEVENT
DTSTART;TZID=Europe/Amsterdam:20260608T190000
DTEND;TZID=Europe/Amsterdam:20260608T220000
DTSTAMP:20260421T235003
CREATED:20251230T085053Z
LAST-MODIFIED:20251230T085417Z
UID:7379-1780945200-1780956000@www.rcamf.nl
SUMMARY:RCAMF bijeenkomst 8 juni 2026
DESCRIPTION:De toegang is aan de linkerzijde bij het hek. De meeting begint om 19:30 en duurt tot ongeveer 22:00. \nLet op:\nVoor het hek van de ingang van Vanadiumweg 20A is rechts een groot terrein waar je kunt parkeren\, kan ook aan de weg. Voor versnaperingen wordt gezorgd.
URL:https://www.rcamf.nl/event/rcamf-bijeenkomst-8-juni-2026/
LOCATION:Groeneveld\, Vanadiumweg 20A\, Amersfoort\, Netherlands
CATEGORIES:RC AMF avond
ATTACH;FMTTYPE=image/jpeg:https://www.rcamf.nl/wp-content/uploads/2024/01/15-1-2024-2-scaled.jpg
ORGANIZER;CN="Jan Spierenburg":MAILTO:pd0auq@rcamf.nl
END:VEVENT
BEGIN:VEVENT
DTSTART;TZID=Europe/Amsterdam:20260615T190000
DTEND;TZID=Europe/Amsterdam:20260615T220000
DTSTAMP:20260421T235003
CREATED:20251230T085147Z
LAST-MODIFIED:20251230T085410Z
UID:7381-1781550000-1781560800@www.rcamf.nl
SUMMARY:RCAMF bijeenkomst 15 juni 2026
DESCRIPTION:De toegang is aan de linkerzijde bij het hek. De meeting begint om 19:30 en duurt tot ongeveer 22:00. \nLet op:\nVoor het hek van de ingang van Vanadiumweg 20A is rechts een groot terrein waar je kunt parkeren\, kan ook aan de weg. Voor versnaperingen wordt gezorgd.
URL:https://www.rcamf.nl/event/rcamf-bijeenkomst-15-juni-2026/
LOCATION:Groeneveld\, Vanadiumweg 20A\, Amersfoort\, Netherlands
CATEGORIES:RC AMF avond
ATTACH;FMTTYPE=image/jpeg:https://www.rcamf.nl/wp-content/uploads/2024/01/15-1-2024-2-scaled.jpg
ORGANIZER;CN="Jan Spierenburg":MAILTO:pd0auq@rcamf.nl
END:VEVENT
BEGIN:VEVENT
DTSTART;TZID=Europe/Amsterdam:20260622T190000
DTEND;TZID=Europe/Amsterdam:20260622T220000
DTSTAMP:20260421T235003
CREATED:20251230T085244Z
LAST-MODIFIED:20251230T085402Z
UID:7383-1782154800-1782165600@www.rcamf.nl
SUMMARY:RCAMF bijeenkomst 22 juni 2026
DESCRIPTION:De toegang is aan de linkerzijde bij het hek. De meeting begint om 19:30 en duurt tot ongeveer 22:00. \nLet op:\nVoor het hek van de ingang van Vanadiumweg 20A is rechts een groot terrein waar je kunt parkeren\, kan ook aan de weg. Voor versnaperingen wordt gezorgd.
URL:https://www.rcamf.nl/event/rcamf-bijeenkomst-22-juni-2026/
LOCATION:Groeneveld\, Vanadiumweg 20A\, Amersfoort\, Netherlands
CATEGORIES:RC AMF avond
ATTACH;FMTTYPE=image/jpeg:https://www.rcamf.nl/wp-content/uploads/2024/01/15-1-2024-2-scaled.jpg
ORGANIZER;CN="Jan Spierenburg":MAILTO:pd0auq@rcamf.nl
END:VEVENT
BEGIN:VEVENT
DTSTART;TZID=Europe/Amsterdam:20260626T090000
DTEND;TZID=Europe/Amsterdam:20260628T170000
DTSTAMP:20260421T235003
CREATED:20250702T192140Z
LAST-MODIFIED:20251229T191651Z
UID:6301-1782464400-1782666000@www.rcamf.nl
SUMMARY:Ham Radio Friederichshafen
DESCRIPTION:HAM RADIO is één van de grootste amateurradioshows ter wereld. Van 26 tot en met 28 juni 2026 draait in Friedrichshafen aan de Bodensee alles om amateurradio. Samen met de beursorganisator opent de DARC\, als ideale sponsor van Europa’s grootste vakbeurs voor radioamateurs\, de deuren naar een wijde wereld van vrijwel onbeperkte mogelijkheden. HAM RADIO brengt exposanten en bezoekers uit meer dan 52 landen naar Friedrichshafen.
URL:https://www.rcamf.nl/event/ham-radio-friederichshafen/
LOCATION:Messe Friedrichshafen\, Neue Messe 1\, Friedrichshafen\, 88046\, Germany
CATEGORIES:Radiomarkt
ATTACH;FMTTYPE=image/jpeg:https://www.rcamf.nl/wp-content/uploads/2025/10/2025-10-28_21-35-08.jpg
ORGANIZER;CN="Jan Spierenburg":MAILTO:pd0auq@rcamf.nl
END:VEVENT
BEGIN:VEVENT
DTSTART;TZID=Europe/Amsterdam:20260629T190000
DTEND;TZID=Europe/Amsterdam:20260629T220000
DTSTAMP:20260421T235003
CREATED:20251230T085341Z
LAST-MODIFIED:20251230T085341Z
UID:7385-1782759600-1782770400@www.rcamf.nl
SUMMARY:RCAMF bijeenkomst 29 juni 2026
DESCRIPTION:De toegang is aan de linkerzijde bij het hek. De meeting begint om 19:30 en duurt tot ongeveer 22:00. \nLet op:\nVoor het hek van de ingang van Vanadiumweg 20A is rechts een groot terrein waar je kunt parkeren\, kan ook aan de weg. Voor versnaperingen wordt gezorgd.
URL:https://www.rcamf.nl/event/rcamf-bijeenkomst-29-juni-2026/
LOCATION:Groeneveld\, Vanadiumweg 20A\, Amersfoort\, Netherlands
CATEGORIES:RC AMF avond
ATTACH;FMTTYPE=image/jpeg:https://www.rcamf.nl/wp-content/uploads/2024/01/15-1-2024-2-scaled.jpg
ORGANIZER;CN="Jan Spierenburg":MAILTO:pd0auq@rcamf.nl
END:VEVENT
BEGIN:VEVENT
DTSTART;TZID=Europe/Amsterdam:20261219T093000
DTEND;TZID=Europe/Amsterdam:20261219T150000
DTSTAMP:20260421T235003
CREATED:20260113T195239Z
LAST-MODIFIED:20260402T172002Z
UID:7442-1797672600-1797692400@www.rcamf.nl
SUMMARY:Radiomarkt de Lichtmis
DESCRIPTION:19 december 2026 is er voor de 43e keer de Radio Onderdelen Markt ( R.O.M.) \nDeze markt gaat plaats vinden aan Koningin Julianalaan 10\, 7911 KK Nieuwleusen \nParkeren is gratis maar toegang is 5\,00 per persoon \nOp de radio markt kunnen foto’s worden gemaakt voor prive/ media doeleinden.
URL:https://www.rcamf.nl/event/radiomarkt-de-lichtmis/
LOCATION:Lichtmis\, Hermelenweg 190\, Zwolle\, Overijssel\, 8028PL
CATEGORIES:Radiomarkt
ATTACH;FMTTYPE=image/jpeg:https://www.rcamf.nl/wp-content/uploads/2026/01/DeSpil_ROM.jpg
END:VEVENT
END:VCALENDAR